BEGIN:VCALENDAR
VERSION:2.0
PRODID:-//G.T.E.V. Almenrausch-Lindach e.V. Burghausen - ECPv6.15.20//NONSGML v1.0//EN
CALSCALE:GREGORIAN
METHOD:PUBLISH
X-ORIGINAL-URL:https://home.almenrausch-lindach.de
X-WR-CALDESC:Veranstaltungen für G.T.E.V. Almenrausch-Lindach e.V. Burghausen
REFRESH-INTERVAL;VALUE=DURATION:PT1H
X-Robots-Tag:noindex
X-PUBLISHED-TTL:PT1H
BEGIN:VTIMEZONE
TZID:Europe/Berlin
BEGIN:DAYLIGHT
TZOFFSETFROM:+0100
TZOFFSETTO:+0200
TZNAME:CEST
DTSTART:20250330T010000
END:DAYLIGHT
BEGIN:STANDARD
TZOFFSETFROM:+0200
TZOFFSETTO:+0100
TZNAME:CET
DTSTART:20251026T010000
END:STANDARD
BEGIN:DAYLIGHT
TZOFFSETFROM:+0100
TZOFFSETTO:+0200
TZNAME:CEST
DTSTART:20260329T010000
END:DAYLIGHT
BEGIN:STANDARD
TZOFFSETFROM:+0200
TZOFFSETTO:+0100
TZNAME:CET
DTSTART:20261025T010000
END:STANDARD
BEGIN:DAYLIGHT
TZOFFSETFROM:+0100
TZOFFSETTO:+0200
TZNAME:CEST
DTSTART:20270328T010000
END:DAYLIGHT
BEGIN:STANDARD
TZOFFSETFROM:+0200
TZOFFSETTO:+0100
TZNAME:CET
DTSTART:20271031T010000
END:STANDARD
END:VTIMEZONE
BEGIN:VEVENT
DTSTART;TZID=Europe/Berlin:20260606T120000
DTEND;TZID=Europe/Berlin:20260606T170000
DTSTAMP:20260425T123939
CREATED:20251113T120238Z
LAST-MODIFIED:20251113T120238Z
UID:12747-1780747200-1780765200@home.almenrausch-lindach.de
SUMMARY:Gebietspreisplatteln Kinder und Jugend in Aschau
DESCRIPTION:
URL:https://home.almenrausch-lindach.de/veranstaltung/gebietspreisplatteln-kinder-und-jugend-in-aschau/
LOCATION:Bayern
END:VEVENT
BEGIN:VEVENT
DTSTART;TZID=Europe/Berlin:20260611T100000
DTEND;TZID=Europe/Berlin:20260611T130000
DTSTAMP:20260425T123939
CREATED:20251113T120238Z
LAST-MODIFIED:20251113T120238Z
UID:12748-1781172000-1781182800@home.almenrausch-lindach.de
SUMMARY:Stammtisch im Lindenheim
DESCRIPTION:
URL:https://home.almenrausch-lindach.de/veranstaltung/stammtisch-im-lindenheim-33/
LOCATION:Bayern
END:VEVENT
BEGIN:VEVENT
DTSTART;TZID=Europe/Berlin:20260613T000000
DTEND;TZID=Europe/Berlin:20260613T000000
DTSTAMP:20260425T123939
CREATED:20251113T120412Z
LAST-MODIFIED:20251113T120412Z
UID:12749-1781308800-1781308800@home.almenrausch-lindach.de
SUMMARY:80-jähriges Gründungsfest G.T.E.V. Almröserl" Oberneukirchen"
DESCRIPTION:
URL:https://home.almenrausch-lindach.de/veranstaltung/80-jaehriges-gruendungsfest-g-t-e-v-almroeserl-oberneukirchen/
LOCATION:Bayern
END:VEVENT
BEGIN:VEVENT
DTSTART;TZID=Europe/Berlin:20260614T000000
DTEND;TZID=Europe/Berlin:20260614T000000
DTSTAMP:20260425T123939
CREATED:20251113T120413Z
LAST-MODIFIED:20251113T120413Z
UID:12750-1781395200-1781395200@home.almenrausch-lindach.de
SUMMARY:80-jähriges Gründungsfest G.T.E.V. Almröserl" Oberneukirchen" - Festsonntag
DESCRIPTION:
URL:https://home.almenrausch-lindach.de/veranstaltung/80-jaehriges-gruendungsfest-g-t-e-v-almroeserl-oberneukirchen-festsonntag/
LOCATION:Bayern
END:VEVENT
BEGIN:VEVENT
DTSTART;TZID=Europe/Berlin:20260620T193000
DTEND;TZID=Europe/Berlin:20260620T220000
DTSTAMP:20260425T123939
CREATED:20251113T120413Z
LAST-MODIFIED:20251113T120413Z
UID:12751-1781983800-1781992800@home.almenrausch-lindach.de
SUMMARY:Plattler- und Volkstanzprob für Ehemalige und Aktive
DESCRIPTION:
URL:https://home.almenrausch-lindach.de/veranstaltung/plattler-und-volkstanzprob-fuer-ehemalige-und-aktive-3/
LOCATION:Bayern
END:VEVENT
BEGIN:VEVENT
DTSTART;TZID=Europe/Berlin:20260626T193000
DTEND;TZID=Europe/Berlin:20260626T230000
DTSTAMP:20260425T123939
CREATED:20260129T115601Z
LAST-MODIFIED:20260129T115924Z
UID:13408-1782502200-1782514800@home.almenrausch-lindach.de
SUMMARY:Musikantenstammtisch im Lindenheim
DESCRIPTION:Der Trachtenverein Almenrausch-Lindach lädt alle Musikerinnen und Musiker\, Sängerinnen und Sänger sowie alle\, die einfach gerne einen geselligen und musikalischen Abend verbringen möchten\, herzlich zum monatlichen Musikantenstammtisch ein.
URL:https://home.almenrausch-lindach.de/veranstaltung/musikantenstammtisch-im-lindenheim-4/
LOCATION:Bayern
CATEGORIES:Brauchtum
ATTACH;FMTTYPE=image/jpeg:https://home.almenrausch-lindach.de/wp-content/uploads/2026/01/2026_Musikantenstammtisch_01.jpg
ORGANIZER;CN="G.T.E.V. Almenrausch-Lindach e.V.":MAILTO:info@almenrausch-lindach.de
END:VEVENT
BEGIN:VEVENT
DTSTART;TZID=Europe/Berlin:20260627T170000
DTEND;TZID=Europe/Berlin:20260627T230000
DTSTAMP:20260425T123939
CREATED:20251113T120413Z
LAST-MODIFIED:20251113T120413Z
UID:12752-1782579600-1782601200@home.almenrausch-lindach.de
SUMMARY:46. Boarischer Hoagart bei der Fam. Staudhammer
DESCRIPTION:
URL:https://home.almenrausch-lindach.de/veranstaltung/46-boarischer-hoagart-bei-der-fam-staudhammer/
LOCATION:Staudhammer\, Ulrich-Schmid-Str. 31\, Burghausen\, Bayern\, 84489\, Deutschland
END:VEVENT
BEGIN:VEVENT
DTSTART;TZID=Europe/Berlin:20260702T100000
DTEND;TZID=Europe/Berlin:20260702T130000
DTSTAMP:20260425T123939
CREATED:20251113T120414Z
LAST-MODIFIED:20251113T120414Z
UID:12753-1782986400-1782997200@home.almenrausch-lindach.de
SUMMARY:Stammtisch im Lindenheim
DESCRIPTION:
URL:https://home.almenrausch-lindach.de/veranstaltung/stammtisch-im-lindenheim-34/
LOCATION:Bayern
END:VEVENT
BEGIN:VEVENT
DTSTART;TZID=Europe/Berlin:20260712T000000
DTEND;TZID=Europe/Berlin:20260712T000000
DTSTAMP:20260425T123939
CREATED:20251113T120427Z
LAST-MODIFIED:20251113T120427Z
UID:12754-1783814400-1783814400@home.almenrausch-lindach.de
SUMMARY:Trachten- und Schützentag in Berchtesgaden
DESCRIPTION:
URL:https://home.almenrausch-lindach.de/veranstaltung/trachten-und-schuetzentag-in-berchtesgaden-2/
LOCATION:Bayern
END:VEVENT
BEGIN:VEVENT
DTSTART;TZID=Europe/Berlin:20260718T140000
DTEND;TZID=Europe/Berlin:20260718T160000
DTSTAMP:20260425T123939
CREATED:20251113T120428Z
LAST-MODIFIED:20251113T120428Z
UID:12755-1784383200-1784390400@home.almenrausch-lindach.de
SUMMARY:Delegiertenversammlung in Rosenheim
DESCRIPTION:
URL:https://home.almenrausch-lindach.de/veranstaltung/delegiertenversammlung-in-rosenheim/
LOCATION:Bayern
END:VEVENT
BEGIN:VEVENT
DTSTART;TZID=Europe/Berlin:20260718T200000
DTEND;TZID=Europe/Berlin:20260718T230000
DTSTAMP:20260425T123939
CREATED:20251113T120428Z
LAST-MODIFIED:20251113T120428Z
UID:12756-1784404800-1784415600@home.almenrausch-lindach.de
SUMMARY:Gauheimatabend in Rosenheim
DESCRIPTION:
URL:https://home.almenrausch-lindach.de/veranstaltung/gauheimatabend-in-rosenheim/
LOCATION:Bayern
END:VEVENT
BEGIN:VEVENT
DTSTART;TZID=Europe/Berlin:20260719T000000
DTEND;TZID=Europe/Berlin:20260719T000000
DTSTAMP:20260425T123939
CREATED:20251113T120428Z
LAST-MODIFIED:20251113T120428Z
UID:12757-1784419200-1784419200@home.almenrausch-lindach.de
SUMMARY:Begegnungstag im Freilichtmuseum Amerang
DESCRIPTION:
URL:https://home.almenrausch-lindach.de/veranstaltung/begegnungstag-im-freilichtmuseum-amerang/
LOCATION:Bayern
END:VEVENT
BEGIN:VEVENT
DTSTART;TZID=Europe/Berlin:20260726T090000
DTEND;TZID=Europe/Berlin:20260726T140000
DTSTAMP:20260425T123939
CREATED:20251113T120429Z
LAST-MODIFIED:20251113T120429Z
UID:12758-1785056400-1785074400@home.almenrausch-lindach.de
SUMMARY:Gaujugendpreisplatteln in Saaldorf
DESCRIPTION:
URL:https://home.almenrausch-lindach.de/veranstaltung/gaujugendpreisplatteln-in-saaldorf/
LOCATION:Bayern
END:VEVENT
BEGIN:VEVENT
DTSTART;TZID=Europe/Berlin:20260731T180000
DTEND;TZID=Europe/Berlin:20260731T230000
DTSTAMP:20260425T123939
CREATED:20251113T120441Z
LAST-MODIFIED:20251113T120441Z
UID:12759-1785520800-1785538800@home.almenrausch-lindach.de
SUMMARY:Grillabend mit Trachtenjugend und Blasmusik
DESCRIPTION:
URL:https://home.almenrausch-lindach.de/veranstaltung/grillabend-mit-trachtenjugend-und-blasmusik-3/
LOCATION:Bayern
END:VEVENT
BEGIN:VEVENT
DTSTART;TZID=Europe/Berlin:20260731T193000
DTEND;TZID=Europe/Berlin:20260731T230000
DTSTAMP:20260425T123939
CREATED:20260129T115605Z
LAST-MODIFIED:20260129T115934Z
UID:13409-1785526200-1785538800@home.almenrausch-lindach.de
SUMMARY:Musikantenstammtisch im Lindenheim
DESCRIPTION:Der Trachtenverein Almenrausch-Lindach lädt alle Musikerinnen und Musiker\, Sängerinnen und Sänger sowie alle\, die einfach gerne einen geselligen und musikalischen Abend verbringen möchten\, herzlich zum monatlichen Musikantenstammtisch ein.
URL:https://home.almenrausch-lindach.de/veranstaltung/musikantenstammtisch-im-lindenheim-5/
LOCATION:Bayern
CATEGORIES:Brauchtum
ATTACH;FMTTYPE=image/jpeg:https://home.almenrausch-lindach.de/wp-content/uploads/2026/01/2026_Musikantenstammtisch_01.jpg
ORGANIZER;CN="G.T.E.V. Almenrausch-Lindach e.V.":MAILTO:info@almenrausch-lindach.de
END:VEVENT
BEGIN:VEVENT
DTSTART;TZID=Europe/Berlin:20260806T100000
DTEND;TZID=Europe/Berlin:20260806T130000
DTSTAMP:20260425T123939
CREATED:20251113T120442Z
LAST-MODIFIED:20251113T120442Z
UID:12760-1786010400-1786021200@home.almenrausch-lindach.de
SUMMARY:Stammtisch im Lindenheim
DESCRIPTION:
URL:https://home.almenrausch-lindach.de/veranstaltung/stammtisch-im-lindenheim-35/
LOCATION:Bayern
END:VEVENT
BEGIN:VEVENT
DTSTART;TZID=Europe/Berlin:20260822T170000
DTEND;TZID=Europe/Berlin:20260822T230000
DTSTAMP:20260425T123939
CREATED:20251113T120442Z
LAST-MODIFIED:20251113T120909Z
UID:12761-1787418000-1787439600@home.almenrausch-lindach.de
SUMMARY:10. Weisenblasen am Wöhrsee (Ausweichtermin 23.08.2026)
DESCRIPTION:
URL:https://home.almenrausch-lindach.de/veranstaltung/10-weisenblasen-am-woehrsee-ausweichtermin-23-08-2026/
LOCATION:Wöhrsee\, Wöhrsee 2\, Burghausen\, Bayern\, 84489\, Deutschland
END:VEVENT
BEGIN:VEVENT
DTSTART;TZID=Europe/Berlin:20260828T193000
DTEND;TZID=Europe/Berlin:20260828T230000
DTSTAMP:20260425T123939
CREATED:20260129T115606Z
LAST-MODIFIED:20260129T115945Z
UID:13410-1787945400-1787958000@home.almenrausch-lindach.de
SUMMARY:Musikantenstammtisch im Lindenheim
DESCRIPTION:Der Trachtenverein Almenrausch-Lindach lädt alle Musikerinnen und Musiker\, Sängerinnen und Sänger sowie alle\, die einfach gerne einen geselligen und musikalischen Abend verbringen möchten\, herzlich zum monatlichen Musikantenstammtisch ein.
URL:https://home.almenrausch-lindach.de/veranstaltung/musikantenstammtisch-im-lindenheim-6/
LOCATION:Bayern
CATEGORIES:Brauchtum
ATTACH;FMTTYPE=image/jpeg:https://home.almenrausch-lindach.de/wp-content/uploads/2026/01/2026_Musikantenstammtisch_01.jpg
ORGANIZER;CN="G.T.E.V. Almenrausch-Lindach e.V.":MAILTO:info@almenrausch-lindach.de
END:VEVENT
BEGIN:VEVENT
DTSTART;TZID=Europe/Berlin:20260903T100000
DTEND;TZID=Europe/Berlin:20260903T100000
DTSTAMP:20260425T123939
CREATED:20251113T120442Z
LAST-MODIFIED:20251113T120442Z
UID:12762-1788429600-1788429600@home.almenrausch-lindach.de
SUMMARY:Stammtisch im Lindenheim
DESCRIPTION:
URL:https://home.almenrausch-lindach.de/veranstaltung/stammtisch-im-lindenheim-36/
LOCATION:Bayern
END:VEVENT
BEGIN:VEVENT
DTSTART;TZID=Europe/Berlin:20260904T190000
DTEND;TZID=Europe/Berlin:20260904T230000
DTSTAMP:20260425T123939
CREATED:20251113T120443Z
LAST-MODIFIED:20251113T120443Z
UID:12763-1788548400-1788562800@home.almenrausch-lindach.de
SUMMARY:Schafkopfabend im Lindenheim
DESCRIPTION:
URL:https://home.almenrausch-lindach.de/veranstaltung/schafkopfabend-im-lindenheim-24/
LOCATION:Bayern
END:VEVENT
BEGIN:VEVENT
DTSTART;TZID=Europe/Berlin:20260911T190000
DTEND;TZID=Europe/Berlin:20260911T220000
DTSTAMP:20260425T123939
CREATED:20251113T120456Z
LAST-MODIFIED:20251124T203857Z
UID:12764-1789153200-1789164000@home.almenrausch-lindach.de
SUMMARY:Ehrungsabend im Lindenheim
DESCRIPTION:
URL:https://home.almenrausch-lindach.de/veranstaltung/ehrungsabend-im-lindenheim/
LOCATION:Bayern
END:VEVENT
BEGIN:VEVENT
DTSTART;TZID=Europe/Berlin:20260913T080000
DTEND;TZID=Europe/Berlin:20260913T110000
DTSTAMP:20260425T123939
CREATED:20251113T120457Z
LAST-MODIFIED:20251113T120457Z
UID:12765-1789286400-1789297200@home.almenrausch-lindach.de
SUMMARY:154. Wallfahrt zur Kümmernis der KSK Burghausen
DESCRIPTION:
URL:https://home.almenrausch-lindach.de/veranstaltung/154-wallfahrt-zur-kuemmernis-der-ksk-burghausen/
LOCATION:Bayern
END:VEVENT
BEGIN:VEVENT
DTSTART;TZID=Europe/Berlin:20260920T000000
DTEND;TZID=Europe/Berlin:20260920T000000
DTSTAMP:20260425T123939
CREATED:20251113T120457Z
LAST-MODIFIED:20251113T120457Z
UID:12767-1789862400-1789862400@home.almenrausch-lindach.de
SUMMARY:Gaujugendpreisplatteln
DESCRIPTION:
URL:https://home.almenrausch-lindach.de/veranstaltung/gaujugendpreisplatteln/
LOCATION:Bayern
END:VEVENT
BEGIN:VEVENT
DTSTART;TZID=Europe/Berlin:20260920T150000
DTEND;TZID=Europe/Berlin:20260920T150000
DTSTAMP:20260425T123939
CREATED:20251113T120457Z
LAST-MODIFIED:20251113T120457Z
UID:12766-1789916400-1789916400@home.almenrausch-lindach.de
SUMMARY:"Mei Tracht und i" - Fotoshooting in Tracht am Lindenheim  - NEU!
DESCRIPTION:
URL:https://home.almenrausch-lindach.de/veranstaltung/mei-tracht-und-i-fotoshooting-in-tracht-am-lindenheim-neu/
LOCATION:Bayern
END:VEVENT
BEGIN:VEVENT
DTSTART;TZID=Europe/Berlin:20260925T193000
DTEND;TZID=Europe/Berlin:20260925T230000
DTSTAMP:20260425T123939
CREATED:20260129T115608Z
LAST-MODIFIED:20260129T115952Z
UID:13411-1790364600-1790377200@home.almenrausch-lindach.de
SUMMARY:Musikantenstammtisch im Lindenheim
DESCRIPTION:Der Trachtenverein Almenrausch-Lindach lädt alle Musikerinnen und Musiker\, Sängerinnen und Sänger sowie alle\, die einfach gerne einen geselligen und musikalischen Abend verbringen möchten\, herzlich zum monatlichen Musikantenstammtisch ein.
URL:https://home.almenrausch-lindach.de/veranstaltung/musikantenstammtisch-im-lindenheim-7/
LOCATION:Bayern
CATEGORIES:Brauchtum
ATTACH;FMTTYPE=image/jpeg:https://home.almenrausch-lindach.de/wp-content/uploads/2026/01/2026_Musikantenstammtisch_01.jpg
ORGANIZER;CN="G.T.E.V. Almenrausch-Lindach e.V.":MAILTO:info@almenrausch-lindach.de
END:VEVENT
BEGIN:VEVENT
DTSTART;TZID=Europe/Berlin:20260926T193000
DTEND;TZID=Europe/Berlin:20260926T230000
DTSTAMP:20260425T123939
CREATED:20251113T120458Z
LAST-MODIFIED:20251113T120458Z
UID:12768-1790451000-1790463600@home.almenrausch-lindach.de
SUMMARY:Musikalischer Abend im Lindenheim
DESCRIPTION:
URL:https://home.almenrausch-lindach.de/veranstaltung/musikalischer-abend-im-lindenheim-3/
LOCATION:Bayern
END:VEVENT
BEGIN:VEVENT
DTSTART;TZID=Europe/Berlin:20261001T100000
DTEND;TZID=Europe/Berlin:20261001T130000
DTSTAMP:20260425T123939
CREATED:20251113T120511Z
LAST-MODIFIED:20251113T120511Z
UID:12769-1790848800-1790859600@home.almenrausch-lindach.de
SUMMARY:Stammtisch im Lindenheim
DESCRIPTION:
URL:https://home.almenrausch-lindach.de/veranstaltung/stammtisch-im-lindenheim-37/
LOCATION:Bayern
END:VEVENT
BEGIN:VEVENT
DTSTART;TZID=Europe/Berlin:20261002T190000
DTEND;TZID=Europe/Berlin:20261002T230000
DTSTAMP:20260425T123939
CREATED:20251113T120512Z
LAST-MODIFIED:20251113T120512Z
UID:12770-1790967600-1790982000@home.almenrausch-lindach.de
SUMMARY:Schafkopfabend im Lindenheim
DESCRIPTION:
URL:https://home.almenrausch-lindach.de/veranstaltung/schafkopfabend-im-lindenheim-25/
LOCATION:Bayern
END:VEVENT
BEGIN:VEVENT
DTSTART;TZID=Europe/Berlin:20261004T100000
DTEND;TZID=Europe/Berlin:20261004T180000
DTSTAMP:20260425T123939
CREATED:20251113T120512Z
LAST-MODIFIED:20251113T120512Z
UID:12771-1791108000-1791136800@home.almenrausch-lindach.de
SUMMARY:Radlausflug des Vereinsausschusses
DESCRIPTION:
URL:https://home.almenrausch-lindach.de/veranstaltung/radlausflug-des-vereinsausschusses/
LOCATION:Bayern
END:VEVENT
BEGIN:VEVENT
DTSTART;TZID=Europe/Berlin:20261007T200000
DTEND;TZID=Europe/Berlin:20261007T220000
DTSTAMP:20260425T123939
CREATED:20251113T120512Z
LAST-MODIFIED:20251113T120512Z
UID:12772-1791403200-1791410400@home.almenrausch-lindach.de
SUMMARY:Besprechung Vorplattler und Jugendleiter in Oberneukirchen
DESCRIPTION:
URL:https://home.almenrausch-lindach.de/veranstaltung/besprechung-vorplattler-und-jugendleiter-in-oberneukirchen-2/
LOCATION:Bayern
END:VEVENT
END:VCALENDAR