BEGIN:VCALENDAR
VERSION:2.0
PRODID:-//G.T.E.V. Almenrausch-Lindach e.V. Burghausen - ECPv6.15.20//NONSGML v1.0//EN
CALSCALE:GREGORIAN
METHOD:PUBLISH
X-WR-CALNAME:G.T.E.V. Almenrausch-Lindach e.V. Burghausen
X-ORIGINAL-URL:https://home.almenrausch-lindach.de
X-WR-CALDESC:Veranstaltungen für G.T.E.V. Almenrausch-Lindach e.V. Burghausen
REFRESH-INTERVAL;VALUE=DURATION:PT1H
X-Robots-Tag:noindex
X-PUBLISHED-TTL:PT1H
BEGIN:VTIMEZONE
TZID:Europe/Berlin
BEGIN:DAYLIGHT
TZOFFSETFROM:+0100
TZOFFSETTO:+0200
TZNAME:CEST
DTSTART:20250330T010000
END:DAYLIGHT
BEGIN:STANDARD
TZOFFSETFROM:+0200
TZOFFSETTO:+0100
TZNAME:CET
DTSTART:20251026T010000
END:STANDARD
BEGIN:DAYLIGHT
TZOFFSETFROM:+0100
TZOFFSETTO:+0200
TZNAME:CEST
DTSTART:20260329T010000
END:DAYLIGHT
BEGIN:STANDARD
TZOFFSETFROM:+0200
TZOFFSETTO:+0100
TZNAME:CET
DTSTART:20261025T010000
END:STANDARD
BEGIN:DAYLIGHT
TZOFFSETFROM:+0100
TZOFFSETTO:+0200
TZNAME:CEST
DTSTART:20270328T010000
END:DAYLIGHT
BEGIN:STANDARD
TZOFFSETFROM:+0200
TZOFFSETTO:+0100
TZNAME:CET
DTSTART:20271031T010000
END:STANDARD
END:VTIMEZONE
BEGIN:VEVENT
DTSTART;TZID=Europe/Berlin:20261105T100000
DTEND;TZID=Europe/Berlin:20261105T130000
DTSTAMP:20260425T174738
CREATED:20251113T120529Z
LAST-MODIFIED:20251113T120529Z
UID:12778-1793872800-1793883600@home.almenrausch-lindach.de
SUMMARY:Stammtisch im Lindenheim
DESCRIPTION:
URL:https://home.almenrausch-lindach.de/veranstaltung/stammtisch-im-lindenheim-38/
END:VEVENT
BEGIN:VEVENT
DTSTART;TZID=Europe/Berlin:20261106T190000
DTEND;TZID=Europe/Berlin:20261106T230000
DTSTAMP:20260425T174738
CREATED:20251113T120541Z
LAST-MODIFIED:20251113T120541Z
UID:12779-1793991600-1794006000@home.almenrausch-lindach.de
SUMMARY:Schafkopfabend im Lindenheim
DESCRIPTION:
URL:https://home.almenrausch-lindach.de/veranstaltung/schafkopfabend-im-lindenheim-26/
END:VEVENT
BEGIN:VEVENT
DTSTART;TZID=Europe/Berlin:20261114T183000
DTEND;TZID=Europe/Berlin:20261114T183000
DTSTAMP:20260425T174738
CREATED:20251113T120541Z
LAST-MODIFIED:20251113T120541Z
UID:12780-1794681000-1794681000@home.almenrausch-lindach.de
SUMMARY:Gedenkgottesdienst in der Pfarrkirche ZULF anschließend Jahreshauptversammlung im Lindenheim
DESCRIPTION:
URL:https://home.almenrausch-lindach.de/veranstaltung/gedenkgottesdienst-in-der-pfarrkirche-zulf-anschliessend-jahreshauptversammlung-im-lindenheim/
END:VEVENT
BEGIN:VEVENT
DTSTART;TZID=Europe/Berlin:20261115T090000
DTEND;TZID=Europe/Berlin:20261115T100000
DTSTAMP:20260425T174738
CREATED:20251113T120542Z
LAST-MODIFIED:20251113T120542Z
UID:12781-1794733200-1794736800@home.almenrausch-lindach.de
SUMMARY:Volkstrauertag - Gottesdienst in St. Jakob
DESCRIPTION:
URL:https://home.almenrausch-lindach.de/veranstaltung/volkstrauertag-gottesdienst-in-st-jakob-2/
END:VEVENT
BEGIN:VEVENT
DTSTART;TZID=Europe/Berlin:20261115T100000
DTEND;TZID=Europe/Berlin:20261115T110000
DTSTAMP:20260425T174738
CREATED:20251113T120542Z
LAST-MODIFIED:20251113T120542Z
UID:12782-1794736800-1794740400@home.almenrausch-lindach.de
SUMMARY:Volkstrauertag - Gedenkfeier an der Gedächtnisstätte Napoleonshöhe
DESCRIPTION:
URL:https://home.almenrausch-lindach.de/veranstaltung/volkstrauertag-gedenkfeier-an-der-gedaechtnisstaette-napoleonshoehe/
END:VEVENT
BEGIN:VEVENT
DTSTART;TZID=Europe/Berlin:20261127T193000
DTEND;TZID=Europe/Berlin:20261127T230000
DTSTAMP:20260425T174738
CREATED:20260129T115610Z
LAST-MODIFIED:20260129T120008Z
UID:13413-1795807800-1795820400@home.almenrausch-lindach.de
SUMMARY:Musikantenstammtisch im Lindenheim
DESCRIPTION:Der Trachtenverein Almenrausch-Lindach lädt alle Musikerinnen und Musiker\, Sängerinnen und Sänger sowie alle\, die einfach gerne einen geselligen und musikalischen Abend verbringen möchten\, herzlich zum monatlichen Musikantenstammtisch ein.
URL:https://home.almenrausch-lindach.de/veranstaltung/musikantenstammtisch-im-lindenheim-9/
CATEGORIES:Brauchtum
ATTACH;FMTTYPE=image/jpeg:https://home.almenrausch-lindach.de/wp-content/uploads/2026/01/2026_Musikantenstammtisch_01.jpg
ORGANIZER;CN="G.T.E.V. Almenrausch-Lindach e.V.":MAILTO:info@almenrausch-lindach.de
END:VEVENT
BEGIN:VEVENT
DTSTART;TZID=Europe/Berlin:20261203T100000
DTEND;TZID=Europe/Berlin:20261203T130000
DTSTAMP:20260425T174739
CREATED:20251113T120543Z
LAST-MODIFIED:20251113T120543Z
UID:12783-1796292000-1796302800@home.almenrausch-lindach.de
SUMMARY:Stammtisch im Lindenheim
DESCRIPTION:
URL:https://home.almenrausch-lindach.de/veranstaltung/stammtisch-im-lindenheim-39/
END:VEVENT
BEGIN:VEVENT
DTSTART;TZID=Europe/Berlin:20261204T190000
DTEND;TZID=Europe/Berlin:20261204T230000
DTSTAMP:20260425T174739
CREATED:20251113T120556Z
LAST-MODIFIED:20251113T120556Z
UID:12784-1796410800-1796425200@home.almenrausch-lindach.de
SUMMARY:Schafkopfabend im Lindenheim
DESCRIPTION:
URL:https://home.almenrausch-lindach.de/veranstaltung/schafkopfabend-im-lindenheim-27/
END:VEVENT
BEGIN:VEVENT
DTSTART;TZID=Europe/Berlin:20261206T170000
DTEND;TZID=Europe/Berlin:20261206T190000
DTSTAMP:20260425T174739
CREATED:20251113T120557Z
LAST-MODIFIED:20251113T120557Z
UID:12785-1796576400-1796583600@home.almenrausch-lindach.de
SUMMARY:26. Burghauser Adventsingen in St. Jakob
DESCRIPTION:
URL:https://home.almenrausch-lindach.de/veranstaltung/26-burghauser-adventsingen-in-st-jakob/
END:VEVENT
BEGIN:VEVENT
DTSTART;TZID=Europe/Berlin:20261212T170000
DTEND;TZID=Europe/Berlin:20261212T200000
DTSTAMP:20260425T174739
CREATED:20251113T120557Z
LAST-MODIFIED:20251113T120557Z
UID:12786-1797094800-1797105600@home.almenrausch-lindach.de
SUMMARY:Waldweihnachtsfeier beim Steinbeiß
DESCRIPTION:
URL:https://home.almenrausch-lindach.de/veranstaltung/waldweihnachtsfeier-beim-steinbeiss/
LOCATION:Steinbeiß\, Steinbeißweg 32\, Burghausen\, Bayern\, 84489\, Deutschland
END:VEVENT
BEGIN:VEVENT
DTSTART;TZID=Europe/Berlin:20261219T193000
DTEND;TZID=Europe/Berlin:20261219T230000
DTSTAMP:20260425T174739
CREATED:20251113T120557Z
LAST-MODIFIED:20251113T120557Z
UID:12787-1797708600-1797721200@home.almenrausch-lindach.de
SUMMARY:Weihnachtsfeier mit Einakter im Bürgerhaus
DESCRIPTION:
URL:https://home.almenrausch-lindach.de/veranstaltung/weihnachtsfeier-mit-einakter-im-buergerhaus/
LOCATION:Bürgerhaus Burghausen\, Marktler Straße 15a\, Burghausen\, Bayern\, 84489\, Deutschland
END:VEVENT
END:VCALENDAR